Package: DESpace Version: 1.7.0 Command: rm -rf DESpace.buildbin-libdir && mkdir DESpace.buildbin-libdir && /Users/biocbuild/BBS/utils/build-universal.sh DESpace_1.7.0.tar.gz /Library/Frameworks/R.framework/Resources/bin/R DESpace.buildbin-libdir StartedAt: 2025-02-04 00:31:13 -0500 (Tue, 04 Feb 2025) EndedAt: 2025-02-04 00:31:53 -0500 (Tue, 04 Feb 2025) EllapsedTime: 40.3 seconds RetCode: 0 Status: OK PackageFile: DESpace_1.7.0.tgz PackageFileSize: 5.822 MiB