Package: DESpace Version: 1.7.0 Command: /Library/Frameworks/R.framework/Resources/bin/R CMD build --keep-empty-dirs --no-resave-data DESpace StartedAt: 2025-02-03 16:34:33 -0500 (Mon, 03 Feb 2025) EndedAt: 2025-02-03 16:41:36 -0500 (Mon, 03 Feb 2025) EllapsedTime: 423.0 seconds RetCode: 0 Status: OK PackageFile: DESpace_1.7.0.tar.gz PackageFileSize: 5.768 MiB