Package: DESpace Version: 1.7.0 Command: /Library/Frameworks/R.framework/Resources/bin/R CMD check --install=check:DESpace.install-out.txt --library=/Library/Frameworks/R.framework/Resources/library --no-vignettes --timings DESpace_1.7.0.tar.gz StartedAt: 2025-02-09 20:17:34 -0500 (Sun, 09 Feb 2025) EndedAt: 2025-02-09 20:22:07 -0500 (Sun, 09 Feb 2025) EllapsedTime: 272.4 seconds RetCode: 0 Status: OK CheckDir: DESpace.Rcheck Warnings: 0