Package: DESpace Version: 1.7.0 Command: /Library/Frameworks/R.framework/Resources/bin/R CMD INSTALL DESpace StartedAt: 2025-02-09 15:42:45 -0500 (Sun, 09 Feb 2025) EndedAt: 2025-02-09 15:43:23 -0500 (Sun, 09 Feb 2025) EllapsedTime: 37.6 seconds RetCode: 0 Status: OK