Package: DESpace Version: 1.7.0 Command: /home/biocbuild/bbs-3.21-bioc/R/bin/R CMD build --keep-empty-dirs --no-resave-data DESpace StartedAt: 2025-02-09 16:59:21 -0500 (Sun, 09 Feb 2025) EndedAt: 2025-02-09 17:06:33 -0500 (Sun, 09 Feb 2025) EllapsedTime: 431.5 seconds RetCode: 0 Status: OK PackageFile: DESpace_1.7.0.tar.gz PackageFileSize: 3.554 MiB