Package: DESpace Version: 1.7.0 Command: rm -rf DESpace.buildbin-libdir && mkdir DESpace.buildbin-libdir && E:\biocbuild\bbs-3.21-bioc\R\bin\R.exe CMD INSTALL --build --library=DESpace.buildbin-libdir DESpace_1.7.0.tar.gz StartedAt: 2025-02-10 07:37:21 -0500 (Mon, 10 Feb 2025) EndedAt: 2025-02-10 07:37:54 -0500 (Mon, 10 Feb 2025) EllapsedTime: 33.5 seconds RetCode: 0 Status: OK PackageFile: DESpace_1.7.0.zip PackageFileSize: 1.936 MiB