Package: DESpace Version: 1.7.0 Command: chmod a+r DESpace -R && E:\biocbuild\bbs-3.21-bioc\R\bin\R.exe CMD build --keep-empty-dirs --no-resave-data DESpace StartedAt: 2025-02-03 18:32:16 -0500 (Mon, 03 Feb 2025) EndedAt: 2025-02-03 18:56:02 -0500 (Mon, 03 Feb 2025) EllapsedTime: 1426.1 seconds RetCode: 0 Status: OK PackageFile: DESpace_1.7.0.tar.gz PackageFileSize: 1.883 MiB