Package: DESpace Version: 1.7.0 Command: E:\biocbuild\bbs-3.21-bioc\R\bin\R.exe CMD check --no-multiarch --install=check:DESpace.install-out.txt --library=E:\biocbuild\bbs-3.21-bioc\R\library --no-vignettes --timings DESpace_1.7.0.tar.gz StartedAt: 2025-02-04 00:54:13 -0500 (Tue, 04 Feb 2025) EndedAt: 2025-02-04 00:59:14 -0500 (Tue, 04 Feb 2025) EllapsedTime: 300.5 seconds RetCode: 0 Status: OK CheckDir: DESpace.Rcheck Warnings: 0