Package: DEqMS Version: 1.25.0 Command: rm -rf DEqMS.buildbin-libdir && mkdir DEqMS.buildbin-libdir && /Users/biocbuild/BBS/utils/build-universal.sh DEqMS_1.25.0.tar.gz /Library/Frameworks/R.framework/Resources/bin/R DEqMS.buildbin-libdir StartedAt: 2025-02-09 22:12:06 -0500 (Sun, 09 Feb 2025) EndedAt: 2025-02-09 22:12:09 -0500 (Sun, 09 Feb 2025) EllapsedTime: 3.1 seconds RetCode: 0 Status: OK PackageFile: DEqMS_1.25.0.tgz PackageFileSize: 2.244 MiB