Package: DEqMS Version: 1.25.0 Command: /Library/Frameworks/R.framework/Resources/bin/R CMD check --install=check:DEqMS.install-out.txt --library=/Library/Frameworks/R.framework/Resources/library --no-vignettes --timings DEqMS_1.25.0.tar.gz StartedAt: 2025-02-09 18:56:05 -0500 (Sun, 09 Feb 2025) EndedAt: 2025-02-09 18:57:04 -0500 (Sun, 09 Feb 2025) EllapsedTime: 58.7 seconds RetCode: 0 Status: OK CheckDir: DEqMS.Rcheck Warnings: 0