Package: DEqMS Version: 1.25.0 Command: /Library/Frameworks/R.framework/Resources/bin/R CMD INSTALL DEqMS StartedAt: 2025-02-09 15:06:59 -0500 (Sun, 09 Feb 2025) EndedAt: 2025-02-09 15:07:02 -0500 (Sun, 09 Feb 2025) EllapsedTime: 2.3 seconds RetCode: 0 Status: OK