Package: DEqMS Version: 1.25.0 Command: /home/biocbuild/R/R/bin/R CMD INSTALL DEqMS StartedAt: 2025-01-29 19:44:08 -0000 (Wed, 29 Jan 2025) EndedAt: 2025-01-29 19:44:14 -0000 (Wed, 29 Jan 2025) EllapsedTime: 6.5 seconds RetCode: 0 Status: OK