Package: DEqMS Version: 1.25.0 Command: /home/biocbuild/bbs-3.21-bioc/R/bin/R CMD check --install=check:DEqMS.install-out.txt --library=/home/biocbuild/bbs-3.21-bioc/R/site-library --timings DEqMS_1.25.0.tar.gz StartedAt: 2025-02-09 21:41:43 -0500 (Sun, 09 Feb 2025) EndedAt: 2025-02-09 21:45:15 -0500 (Sun, 09 Feb 2025) EllapsedTime: 212.3 seconds RetCode: 0 Status: OK CheckDir: DEqMS.Rcheck Warnings: 0