Package: DEqMS Version: 1.25.0 Command: /home/biocbuild/bbs-3.21-bioc/R/bin/R CMD INSTALL DEqMS StartedAt: 2025-02-09 15:08:15 -0500 (Sun, 09 Feb 2025) EndedAt: 2025-02-09 15:08:25 -0500 (Sun, 09 Feb 2025) EllapsedTime: 10.2 seconds RetCode: 0 Status: OK