Package: DEqMS Version: 1.25.0 Command: rm -rf DEqMS.buildbin-libdir && mkdir DEqMS.buildbin-libdir && E:\biocbuild\bbs-3.21-bioc\R\bin\R.exe CMD INSTALL --build --library=DEqMS.buildbin-libdir DEqMS_1.25.0.tar.gz StartedAt: 2025-02-13 07:47:44 -0500 (Thu, 13 Feb 2025) EndedAt: 2025-02-13 07:47:55 -0500 (Thu, 13 Feb 2025) EllapsedTime: 11.8 seconds RetCode: 0 Status: OK PackageFile: DEqMS_1.25.0.zip PackageFileSize: 650.8 KiB