Package: DEqMS Version: 1.25.0 Command: chmod a+r DEqMS -R && E:\biocbuild\bbs-3.21-bioc\R\bin\R.exe CMD build --keep-empty-dirs --no-resave-data DEqMS StartedAt: 2025-02-12 18:21:46 -0500 (Wed, 12 Feb 2025) EndedAt: 2025-02-12 18:22:44 -0500 (Wed, 12 Feb 2025) EllapsedTime: 58.6 seconds RetCode: 0 Status: OK PackageFile: DEqMS_1.25.0.tar.gz PackageFileSize: 705.5 KiB