Package: DEqMS Version: 1.25.0 Command: E:\biocbuild\bbs-3.21-bioc\R\bin\R.exe CMD check --no-multiarch --install=check:DEqMS.install-out.txt --library=E:\biocbuild\bbs-3.21-bioc\R\library --no-vignettes --timings DEqMS_1.25.0.tar.gz StartedAt: 2025-02-13 00:35:15 -0500 (Thu, 13 Feb 2025) EndedAt: 2025-02-13 00:39:32 -0500 (Thu, 13 Feb 2025) EllapsedTime: 256.8 seconds RetCode: 0 Status: OK CheckDir: DEqMS.Rcheck Warnings: 0