Package: DEqMS Version: 1.25.0 Command: E:\biocbuild\bbs-3.21-bioc\R\bin\R.exe CMD INSTALL DEqMS StartedAt: 2025-02-09 15:33:27 -0500 (Sun, 09 Feb 2025) EndedAt: 2025-02-09 15:33:38 -0500 (Sun, 09 Feb 2025) EllapsedTime: 11.0 seconds RetCode: 0 Status: OK