Package: DEsingle Version: 1.27.0 Command: /Library/Frameworks/R.framework/Resources/bin/R CMD INSTALL DEsingle StartedAt: 2025-02-09 15:21:49 -0500 (Sun, 09 Feb 2025) EndedAt: 2025-02-09 15:21:52 -0500 (Sun, 09 Feb 2025) EllapsedTime: 3.2 seconds RetCode: 0 Status: OK