Package: DEsingle Version: 1.27.0 Command: /home/biocbuild/bbs-3.21-bioc/R/bin/R CMD INSTALL DEsingle StartedAt: 2025-02-12 15:07:48 -0500 (Wed, 12 Feb 2025) EndedAt: 2025-02-12 15:08:35 -0500 (Wed, 12 Feb 2025) EllapsedTime: 46.7 seconds RetCode: 0 Status: OK