Package: DEsingle Version: 1.27.0 Command: rm -rf DEsingle.buildbin-libdir && mkdir DEsingle.buildbin-libdir && E:\biocbuild\bbs-3.21-bioc\R\bin\R.exe CMD INSTALL --build --library=DEsingle.buildbin-libdir DEsingle_1.27.0.tar.gz StartedAt: 2025-02-10 07:37:19 -0500 (Mon, 10 Feb 2025) EndedAt: 2025-02-10 07:37:32 -0500 (Mon, 10 Feb 2025) EllapsedTime: 12.7 seconds RetCode: 0 Status: OK PackageFile: DEsingle_1.27.0.zip PackageFileSize: 398.1 KiB