Package: DEsubs Version: 1.33.0 Command: /home/biocbuild/R/R/bin/R CMD check --install=check:DEsubs.install-out.txt --library=/home/biocbuild/R/R/site-library --no-vignettes --timings DEsubs_1.33.0.tar.gz StartedAt: 2025-01-28 09:56:24 -0000 (Tue, 28 Jan 2025) EndedAt: 2025-01-28 10:00:46 -0000 (Tue, 28 Jan 2025) EllapsedTime: 262.3 seconds RetCode: 0 Status: WARNINGS CheckDir: DEsubs.Rcheck Warnings: 1