Package: DEsubs Version: 1.33.0 Command: /Library/Frameworks/R.framework/Resources/bin/R CMD build --keep-empty-dirs --no-resave-data DEsubs StartedAt: 2025-02-12 16:30:52 -0500 (Wed, 12 Feb 2025) EndedAt: 2025-02-12 16:32:09 -0500 (Wed, 12 Feb 2025) EllapsedTime: 77.8 seconds RetCode: 0 Status: OK PackageFile: DEsubs_1.33.0.tar.gz PackageFileSize: 3.971 MiB