Package: DEsubs Version: 1.33.0 Command: /Library/Frameworks/R.framework/Resources/bin/R CMD INSTALL DEsubs StartedAt: 2025-02-09 15:29:37 -0500 (Sun, 09 Feb 2025) EndedAt: 2025-02-09 15:30:16 -0500 (Sun, 09 Feb 2025) EllapsedTime: 39.0 seconds RetCode: 0 Status: OK