Package: DEsubs Version: 1.33.0 Command: /home/biocbuild/bbs-3.21-bioc/R/bin/R CMD build --keep-empty-dirs --no-resave-data DEsubs StartedAt: 2025-02-09 16:59:34 -0500 (Sun, 09 Feb 2025) EndedAt: 2025-02-09 17:00:39 -0500 (Sun, 09 Feb 2025) EllapsedTime: 64.1 seconds RetCode: 0 Status: OK PackageFile: DEsubs_1.33.0.tar.gz PackageFileSize: 3.971 MiB