Package: DEsubs Version: 1.33.0 Command: chmod a+r DEsubs -R && E:\biocbuild\bbs-3.21-bioc\R\bin\R.exe CMD build --keep-empty-dirs --no-resave-data DEsubs StartedAt: 2025-02-12 18:23:21 -0500 (Wed, 12 Feb 2025) EndedAt: 2025-02-12 18:24:52 -0500 (Wed, 12 Feb 2025) EllapsedTime: 91.1 seconds RetCode: 0 Status: OK PackageFile: DEsubs_1.33.0.tar.gz PackageFileSize: 3.974 MiB