Package: DExMA Version: 1.15.0 Command: rm -rf DExMA.buildbin-libdir && mkdir DExMA.buildbin-libdir && /Users/biocbuild/BBS/utils/build-universal.sh DExMA_1.15.0.tar.gz /Library/Frameworks/R.framework/Resources/bin/R DExMA.buildbin-libdir StartedAt: 2025-02-13 00:33:47 -0500 (Thu, 13 Feb 2025) EndedAt: 2025-02-13 00:34:33 -0500 (Thu, 13 Feb 2025) EllapsedTime: 46.3 seconds RetCode: 0 Status: OK PackageFile: DExMA_1.15.0.tgz PackageFileSize: 403.8 KiB