Package: DExMA Version: 1.15.0 Command: /Library/Frameworks/R.framework/Resources/bin/R CMD check --install=check:DExMA.install-out.txt --library=/Library/Frameworks/R.framework/Resources/library --no-vignettes --timings DExMA_1.15.0.tar.gz StartedAt: 2025-02-09 20:18:22 -0500 (Sun, 09 Feb 2025) EndedAt: 2025-02-09 20:22:48 -0500 (Sun, 09 Feb 2025) EllapsedTime: 265.9 seconds RetCode: 0 Status: OK CheckDir: DExMA.Rcheck Warnings: 0