Package: DExMA Version: 1.15.0 Command: /home/biocbuild/bbs-3.21-bioc/R/bin/R CMD build --keep-empty-dirs --no-resave-data DExMA StartedAt: 2025-02-09 16:59:59 -0500 (Sun, 09 Feb 2025) EndedAt: 2025-02-09 17:00:56 -0500 (Sun, 09 Feb 2025) EllapsedTime: 57.0 seconds RetCode: 0 Status: OK PackageFile: DExMA_1.15.0.tar.gz PackageFileSize: 315.5 KiB