Package: DExMA Version: 1.15.0 Command: rm -rf DExMA.buildbin-libdir && mkdir DExMA.buildbin-libdir && E:\biocbuild\bbs-3.21-bioc\R\bin\R.exe CMD INSTALL --build --library=DExMA.buildbin-libdir DExMA_1.15.0.tar.gz StartedAt: 2025-02-05 07:49:20 -0500 (Wed, 05 Feb 2025) EndedAt: 2025-02-05 07:50:00 -0500 (Wed, 05 Feb 2025) EllapsedTime: 40.0 seconds RetCode: 0 Status: OK PackageFile: DExMA_1.15.0.zip PackageFileSize: 412 KiB