Package: DFplyr Version: 1.1.0 Maintainer: Jonathan Carroll MaintainerEmail: rpkg at jcarroll.com.au git_url: https://git.bioconductor.org/packages/DFplyr git_branch: devel git_last_commit: c81f630 git_last_commit_date: 2024-10-29 11:35:12 -0500 (Tue, 29 Oct 2024)