Package: DFplyr Version: 1.1.0 Command: rm -rf DFplyr.buildbin-libdir && mkdir DFplyr.buildbin-libdir && E:\biocbuild\bbs-3.21-bioc\R\bin\R.exe CMD INSTALL --build --library=DFplyr.buildbin-libdir DFplyr_1.1.0.tar.gz StartedAt: 2025-02-10 07:37:41 -0500 (Mon, 10 Feb 2025) EndedAt: 2025-02-10 07:38:00 -0500 (Mon, 10 Feb 2025) EllapsedTime: 19.1 seconds RetCode: 0 Status: OK PackageFile: DFplyr_1.1.0.zip PackageFileSize: 552.8 KiB