Package: DFplyr Version: 1.1.0 Command: chmod a+r DFplyr -R && E:\biocbuild\bbs-3.21-bioc\R\bin\R.exe CMD build --keep-empty-dirs --no-resave-data DFplyr StartedAt: 2025-02-09 18:20:45 -0500 (Sun, 09 Feb 2025) EndedAt: 2025-02-09 18:21:13 -0500 (Sun, 09 Feb 2025) EllapsedTime: 27.9 seconds RetCode: 0 Status: OK PackageFile: DFplyr_1.1.0.tar.gz PackageFileSize: 393.6 KiB