Package: DIAlignR Version: 2.15.1 Maintainer: Shubham Gupta MaintainerEmail: shubham.1637 at gmail.com git_url: https://git.bioconductor.org/packages/DIAlignR git_branch: devel git_last_commit: 900b871 git_last_commit_date: 2024-12-17 10:49:00 -0500 (Tue, 17 Dec 2024)