Package: DIAlignR Version: 2.15.1 Command: /Library/Frameworks/R.framework/Resources/bin/R CMD check --install=check:DIAlignR.install-out.txt --library=/Library/Frameworks/R.framework/Resources/library --no-vignettes --timings DIAlignR_2.15.1.tar.gz StartedAt: 2025-02-09 18:58:00 -0500 (Sun, 09 Feb 2025) EndedAt: 2025-02-09 18:59:05 -0500 (Sun, 09 Feb 2025) EllapsedTime: 64.9 seconds RetCode: 1 Status: ERROR CheckDir: DIAlignR.Rcheck Warnings: NA