Package: DIAlignR Version: 2.15.1 Command: /Library/Frameworks/R.framework/Resources/bin/R CMD INSTALL DIAlignR StartedAt: 2025-02-12 15:08:21 -0500 (Wed, 12 Feb 2025) EndedAt: 2025-02-12 15:08:40 -0500 (Wed, 12 Feb 2025) EllapsedTime: 18.9 seconds RetCode: 0 Status: OK