Package: DIAlignR Version: 2.15.1 Command: /home/biocbuild/R/R/bin/R CMD INSTALL DIAlignR StartedAt: 2025-01-29 19:58:36 -0000 (Wed, 29 Jan 2025) EndedAt: 2025-01-29 20:00:07 -0000 (Wed, 29 Jan 2025) EllapsedTime: 90.8 seconds RetCode: 0 Status: OK