Package: DIAlignR Version: 2.15.1 Command: /Library/Frameworks/R.framework/Resources/bin/R CMD build --keep-empty-dirs --no-resave-data DIAlignR StartedAt: 2025-02-12 16:31:37 -0500 (Wed, 12 Feb 2025) EndedAt: 2025-02-12 16:33:11 -0500 (Wed, 12 Feb 2025) EllapsedTime: 93.7 seconds RetCode: 0 Status: OK PackageFile: DIAlignR_2.15.1.tar.gz PackageFileSize: 4.271 MiB