Package: DIAlignR Version: 2.15.1 Command: /Library/Frameworks/R.framework/Resources/bin/R CMD INSTALL DIAlignR StartedAt: 2025-02-09 15:18:36 -0500 (Sun, 09 Feb 2025) EndedAt: 2025-02-09 15:19:50 -0500 (Sun, 09 Feb 2025) EllapsedTime: 73.8 seconds RetCode: 0 Status: OK