Package: DIAlignR Version: 2.15.1 Command: /home/biocbuild/bbs-3.21-bioc/R/bin/R CMD build --keep-empty-dirs --no-resave-data DIAlignR StartedAt: 2025-02-09 17:00:31 -0500 (Sun, 09 Feb 2025) EndedAt: 2025-02-09 17:01:51 -0500 (Sun, 09 Feb 2025) EllapsedTime: 80.1 seconds RetCode: 0 Status: OK PackageFile: DIAlignR_2.15.1.tar.gz PackageFileSize: 4.256 MiB