Package: DIAlignR Version: 2.15.1 Command: chmod a+r DIAlignR -R && E:\biocbuild\bbs-3.21-bioc\R\bin\R.exe CMD build --keep-empty-dirs --no-resave-data DIAlignR StartedAt: 2025-02-12 18:24:33 -0500 (Wed, 12 Feb 2025) EndedAt: 2025-02-12 18:26:50 -0500 (Wed, 12 Feb 2025) EllapsedTime: 137.1 seconds RetCode: 0 Status: OK PackageFile: DIAlignR_2.15.1.tar.gz PackageFileSize: 4.02 MiB