Package: DIAlignR Version: 2.15.1 Command: E:\biocbuild\bbs-3.21-bioc\R\bin\R.exe CMD check --no-multiarch --install=check:DIAlignR.install-out.txt --library=E:\biocbuild\bbs-3.21-bioc\R\library --no-vignettes --timings DIAlignR_2.15.1.tar.gz StartedAt: 2025-02-10 00:29:34 -0500 (Mon, 10 Feb 2025) EndedAt: 2025-02-10 00:33:33 -0500 (Mon, 10 Feb 2025) EllapsedTime: 239.2 seconds RetCode: 1 Status: ERROR CheckDir: DIAlignR.Rcheck Warnings: NA