Package: DMCFB Version: 1.21.0 Command: /Library/Frameworks/R.framework/Resources/bin/R CMD build --keep-empty-dirs --no-resave-data DMCFB StartedAt: 2025-02-04 16:10:27 -0500 (Tue, 04 Feb 2025) EndedAt: 2025-02-04 16:11:02 -0500 (Tue, 04 Feb 2025) EllapsedTime: 35.4 seconds RetCode: 0 Status: OK PackageFile: DMCFB_1.21.0.tar.gz PackageFileSize: 1.066 MiB