Package: DMCFB Version: 1.21.0 Command: /home/biocbuild/R/R/bin/R CMD INSTALL DMCFB StartedAt: 2025-01-29 19:50:33 -0000 (Wed, 29 Jan 2025) EndedAt: 2025-01-29 19:51:21 -0000 (Wed, 29 Jan 2025) EllapsedTime: 48.0 seconds RetCode: 0 Status: OK