Package: DMCFB Version: 1.21.0 Command: /Library/Frameworks/R.framework/Resources/bin/R CMD INSTALL DMCFB StartedAt: 2025-02-09 15:17:44 -0500 (Sun, 09 Feb 2025) EndedAt: 2025-02-09 15:18:31 -0500 (Sun, 09 Feb 2025) EllapsedTime: 47.4 seconds RetCode: 0 Status: OK