Package: DMCFB Version: 1.21.0 Command: /home/biocbuild/bbs-3.21-bioc/R/bin/R CMD build --keep-empty-dirs --no-resave-data DMCFB StartedAt: 2025-02-04 17:00:43 -0500 (Tue, 04 Feb 2025) EndedAt: 2025-02-04 17:02:01 -0500 (Tue, 04 Feb 2025) EllapsedTime: 78.1 seconds RetCode: 0 Status: OK PackageFile: DMCFB_1.21.0.tar.gz PackageFileSize: 1.052 MiB