Package: DMCFB Version: 1.21.0 Command: /home/biocbuild/bbs-3.21-bioc/R/bin/R CMD check --install=check:DMCFB.install-out.txt --library=/home/biocbuild/bbs-3.21-bioc/R/site-library --timings DMCFB_1.21.0.tar.gz StartedAt: 2025-02-09 21:51:21 -0500 (Sun, 09 Feb 2025) EndedAt: 2025-02-09 21:57:24 -0500 (Sun, 09 Feb 2025) EllapsedTime: 363.4 seconds RetCode: 0 Status: OK CheckDir: DMCFB.Rcheck Warnings: 0