Package: DMCFB Version: 1.21.0 Command: /home/biocbuild/bbs-3.21-bioc/R/bin/R CMD INSTALL DMCFB StartedAt: 2025-02-09 15:26:10 -0500 (Sun, 09 Feb 2025) EndedAt: 2025-02-09 15:26:46 -0500 (Sun, 09 Feb 2025) EllapsedTime: 36.1 seconds RetCode: 0 Status: OK