Package: DMCFB Version: 1.21.0 Command: E:\biocbuild\bbs-3.21-bioc\R\bin\R.exe CMD INSTALL DMCFB StartedAt: 2025-02-09 16:23:04 -0500 (Sun, 09 Feb 2025) EndedAt: 2025-02-09 16:23:53 -0500 (Sun, 09 Feb 2025) EllapsedTime: 49.2 seconds RetCode: 0 Status: OK