Package: DMRScan Version: 1.29.0 Command: /Library/Frameworks/R.framework/Resources/bin/R CMD build --keep-empty-dirs --no-resave-data DMRScan StartedAt: 2025-02-09 16:09:53 -0500 (Sun, 09 Feb 2025) EndedAt: 2025-02-09 16:10:22 -0500 (Sun, 09 Feb 2025) EllapsedTime: 28.3 seconds RetCode: 1 Status: ERROR PackageFile: None PackageFileSize: NA